BEGIN:VCALENDAR
VERSION:2.0
BEGIN:VEVENT
UID:ics69e8830b1e682
DTSTAMP:20260422T081259Z
LOCATION:
DESCRIPTION:
URL:https://www.aeltere-nordkirche.de/veranstaltung/aelterwerdenendlichleben/
SUMMARY:älterwerden.endlich.leben
DTSTART:20240522T150000Z
DTEND:20260320T130000Z
END:VEVENT
END:VCALENDAR
