BEGIN:VCALENDAR
VERSION:2.0
BEGIN:VEVENT
UID:ics69e732d29665c
DTSTAMP:20260421T081826Z
LOCATION:Nürnberg
DESCRIPTION:
URL:https://www.aeltere-nordkirche.de/veranstaltung/jetzt-ist-die-zeit/
SUMMARY:Jetzt ist die Zeit
DTSTART:20230607T160000Z
DTEND:20230611T100000Z
END:VEVENT
END:VCALENDAR
