BEGIN:VCALENDAR
VERSION:2.0
BEGIN:VEVENT
UID:ics69e88d73c6c8e
DTSTAMP:20260422T085723Z
LOCATION:Kloster Nütschau
DESCRIPTION:
URL:https://www.aeltere-nordkirche.de/veranstaltung/leben-und-beten-in-freundschaft-mit-gott/
SUMMARY:Leben und Beten in Freundschaft mit Gott
DTSTART:20250826T150000Z
DTEND:20250829T110000Z
END:VEVENT
END:VCALENDAR
