BEGIN:VCALENDAR
VERSION:2.0
BEGIN:VEVENT
UID:ics69e88ea6d42d0
DTSTAMP:20260422T090230Z
LOCATION:online
DESCRIPTION:
URL:https://www.aeltere-nordkirche.de/veranstaltung/netzwerk-aelterwerden-der-nordkirche-1/
SUMMARY:Netzwerk Älterwerden der Nordkirche
DTSTART:20241009T080000Z
DTEND:20241009T123000Z
END:VEVENT
END:VCALENDAR
