BEGIN:VCALENDAR
VERSION:2.0
BEGIN:VEVENT
UID:ics69e7332be4fac
DTSTAMP:20260421T081955Z
LOCATION:online
DESCRIPTION:
URL:https://www.aeltere-nordkirche.de/veranstaltung/netzwerk-aelterwerden-der-nordkirche-2/
SUMMARY:Netzwerk Älterwerden der Nordkirche
DTSTART:20251112T070000Z
DTEND:20251112T113000Z
END:VEVENT
END:VCALENDAR
