BEGIN:VCALENDAR
VERSION:2.0
BEGIN:VEVENT
UID:ics69e8cb9a12063
DTSTAMP:20260422T132234Z
LOCATION:DIGITAL
DESCRIPTION:
URL:https://www.aeltere-nordkirche.de/veranstaltung/sorge-dich-lebe-ein-biblisch-theologisches-care-paket-1448698/
SUMMARY:Sorge dich – lebe! Ein biblisch-theologisches Care-Paket
DTSTART:20260611T150000Z
DTEND:20260611T163000Z
END:VEVENT
END:VCALENDAR
