BEGIN:VCALENDAR
VERSION:2.0
BEGIN:VEVENT
UID:ics69e88dd276db7
DTSTAMP:20260422T085858Z
LOCATION:
DESCRIPTION:
URL:https://www.aeltere-nordkirche.de/veranstaltung/wenn-der-wecker-nicht-mehr-klingelt/
SUMMARY:Wenn der Wecker nicht mehr klingelt
DTSTART:20220223T163000Z
DTEND:20220223T183000Z
END:VEVENT
END:VCALENDAR
